BEGIN:VCALENDAR
VERSION:2.0
PRODID:-//ChamberMaster//Event Calendar 2.0//EN
METHOD:PUBLISH
X-PUBLISHED-TTL:P3D
REFRESH-INTERVAL:P3D
CALSCALE:GREGORIAN
BEGIN:VEVENT
DTSTART;VALUE=DATE:20131207
DTEND;VALUE=DATE:20131208
TRANSP:TRANSPARENT
X-MICROSOFT-CDO-ALLDAYEVENT:TRUE
SUMMARY:Cornerstone Pie Official Grand Opening
DESCRIPTION:Official Grand Opening  of Cornerstone Pie this Saturday December 7th... Doors open at 7:00 AM for coffee and baked goods!!!\n\n\n\nPizzas are 50 % off all day long\n\nThe Grand Opening will include Cornerstone Coffee Bar.....\n\nLive Entertainment\, Raffle and Great Food ALL DAY LONG\n\n\n\nRibbon Cutting will take place at 12 Noon
X-ALT-DESC;FMTTYPE=text/html:Official Grand Opening&nbsp\; of Cornerstone Pie this Saturday December 7th... Doors open at 7:00 AM for coffee and baked goods!!!<br />\n<br />\nPizzas are 50 % off all day long<br />\nThe Grand Opening will include Cornerstone Coffee Bar.....<br />\nLive Entertainment\, Raffle and Great Food ALL DAY LONG<br />\n<br />\nRibbon Cutting will take place at 12 Noon
LOCATION:307 E. 5th avenue.
UID:e.40.10875
SEQUENCE:3
DTSTAMP:20260419T210921Z
URL:http://business.kittitascountychamber.com/events/details/cornerstone-pie-official-grand-opening-12-07-2013-10875
END:VEVENT

END:VCALENDAR
