BEGIN:VCALENDAR
VERSION:2.0
PRODID:-//ChamberMaster//Event Calendar 2.0//EN
METHOD:PUBLISH
X-PUBLISHED-TTL:P3D
REFRESH-INTERVAL:P3D
CALSCALE:GREGORIAN
BEGIN:VEVENT
DTSTART:20140426T170000Z
DTEND:20140427T010000Z
X-MICROSOFT-CDO-ALLDAYEVENT:FALSE
SUMMARY:Couples Message Workshop
DESCRIPTION:Couple Message Workshop\n\nDo you want to be able to relieve tenion in necks\, shoulders\, backs\, feet & hands?\n\n\n\nThis workshop will be designed around you and your friend\n\n\n\nSaturday April 26th 10:00am-6:00pm\n\n\n\nGive & receive two messages and receive a gift basket\n\n\n\nBluestone academy of Massage: (509) 962-3535\n\nPlease ask for Tim\n\n\n\nLimited to 5 couples
X-ALT-DESC;FMTTYPE=text/html:Couple Message Workshop<br />\nDo you want to be able to relieve tenion in necks\, shoulders\, backs\, feet &amp\; hands?<br />\n<br />\nThis workshop will be designed around you and your friend<br />\n<br />\nSaturday April 26th 10:00am-6:00pm<br />\n<br />\nGive &amp\; receive&nbsp\;two messages and receive a gift basket<br />\n<br />\nBluestone academy of Massage: (509) 962-3535<br />\nPlease ask for Tim<br />\n<br />\nLimited to 5 couples
LOCATION:Bluestone Academy of Massage
UID:e.40.11310
SEQUENCE:3
DTSTAMP:20260419T143445Z
URL:http://business.kittitascountychamber.com/events/details/couples-message-workshop-04-26-2014-11310
END:VEVENT

END:VCALENDAR
