BEGIN:VCALENDAR
VERSION:2.0
PRODID:-//ChamberMaster//Event Calendar 2.0//EN
METHOD:PUBLISH
X-PUBLISHED-TTL:P3D
REFRESH-INTERVAL:P3D
CALSCALE:GREGORIAN
BEGIN:VEVENT
DTSTART:20140426T160000Z
DTEND:20140427T020000Z
X-MICROSOFT-CDO-ALLDAYEVENT:FALSE
SUMMARY:Craft and cooking Clinic
DESCRIPTION:All day event with clinics throughout the day. Cooking\, jewelry making\, knitting lessons\, coptic bookbinding\, piano basics and a lot more.
X-ALT-DESC;FMTTYPE=text/html:All day event with clinics throughout the day. Cooking\, jewelry making\, knitting lessons\, coptic bookbinding\, piano basics and a lot more.
LOCATION:Ellensburg Christian School 407 S. Anderson
UID:e.40.11348
SEQUENCE:3
DTSTAMP:20260419T144025Z
URL:http://business.kittitascountychamber.com/events/details/craft-and-cooking-clinic-04-26-2014-11348
END:VEVENT

END:VCALENDAR
