BEGIN:VCALENDAR
VERSION:2.0
PRODID:-//ChamberMaster//Event Calendar 2.0//EN
METHOD:PUBLISH
X-PUBLISHED-TTL:P3D
REFRESH-INTERVAL:P3D
CALSCALE:GREGORIAN
BEGIN:VEVENT
DTSTART;VALUE=DATE:20190720
DTEND;VALUE=DATE:20190721
TRANSP:TRANSPARENT
X-MICROSOFT-CDO-ALLDAYEVENT:TRUE
SUMMARY:Croatian/RRC Heritage Club Picnic
DESCRIPTION:Celebration of Croatian Heritage with ethnic foods and lively music in this annual event at the Runje Field in Roslyn.
X-ALT-DESC;FMTTYPE=text/html:Celebration of Croatian Heritage with ethnic foods and lively music in this annual event at the Runje Field in Roslyn.
LOCATION:Roslyn WA
UID:e.40.25672
SEQUENCE:3
DTSTAMP:20260421T132132Z
URL:http://business.kittitascountychamber.com/events/details/croatian-rrc-heritage-club-picnic-25672
END:VEVENT

END:VCALENDAR
