BEGIN:VCALENDAR
VERSION:2.0
PRODID:-//ChamberMaster//Event Calendar 2.0//EN
METHOD:PUBLISH
X-PUBLISHED-TTL:P3D
REFRESH-INTERVAL:P3D
CALSCALE:GREGORIAN
BEGIN:VEVENT
DTSTART:20140413T020000Z
DTEND:20140413T050000Z
X-MICROSOFT-CDO-ALLDAYEVENT:FALSE
SUMMARY:CWU Brooks Library 1st Annual Gala
DESCRIPTION:Please join us at the Brooks Library on Saturday\,  April 12\, 7:00 pm - 10:00 pm\, for our 1st Annual Gala and Silent Auction.  The evening will feature entertainment by local musicians and artists\, poetry and dramatic readings by CWU faculty and students\, and dancing.  Proceeds will fund the acquisition of research books and subscriptions.  Tickets will be available March 1 at the SURC Ticket Office\, 509-963-1429 or online at http://www.cwu.edu/tickets/.  In advance $10.00 - CWU Students\, $20.00per person or $35.00 per couple\; at the door $10.00 CWU Students\, $25.00 per person or $40.00 per couple.
X-ALT-DESC;FMTTYPE=text/html:Please join us at the Brooks Library on Saturday\, &nbsp\;April 12\, 7:00 pm - 10:00 pm\, for our 1st Annual Gala and Silent Auction. &nbsp\;The evening will feature entertainment by local musicians and artists\, poetry and dramatic readings by CWU faculty and students\, and dancing. &nbsp\;Proceeds will fund the acquisition of research books and subscriptions. &nbsp\;Tickets will be available&nbsp\;March 1 at the SURC Ticket Office\, 509-963-1429 or online at http://www.cwu.edu/tickets/. &nbsp\;In advance&nbsp\;$10.00 - CWU Students\, $20.00per person or $35.00 per couple\; at the door $10.00 CWU Students\, $25.00 per person or $40.00 per couple.
LOCATION:The Brooks Library
UID:e.40.10988
SEQUENCE:3
DTSTAMP:20260419T143757Z
URL:http://business.kittitascountychamber.com/events/details/cwu-brooks-library-1st-annual-gala-04-12-2014-10988
END:VEVENT

END:VCALENDAR
