BEGIN:VCALENDAR
VERSION:2.0
PRODID:-//ChamberMaster//Event Calendar 2.0//EN
METHOD:PUBLISH
X-PUBLISHED-TTL:P3D
REFRESH-INTERVAL:P3D
CALSCALE:GREGORIAN
BEGIN:VEVENT
DTSTART:20140131T010000Z
DTEND:20140131T050000Z
X-MICROSOFT-CDO-ALLDAYEVENT:FALSE
SUMMARY:CWU Celebrates Lunar New Year
DESCRIPTION:Join CWU in celebrating Lunar New Year\, one of the most traditional Chinese festivals\, Thursday\, Jan. 30 from 5 to 9 p.m. in the Student Union and Recreation Center (SURC) Ballroom. Let's celebrate together and give best wishes for the New Year. Admission is $5 for CWU students with ID\,$7 for general admission and tickets are available at www.cwu.edu/tickets. This event is open to everyone.  The evening will include traditional Chinese food\, exciting performances\, luck lottery and of course the Lion Dance.  For more information contact the Center for Diversity and Social Justice at 509-963-2127
X-ALT-DESC;FMTTYPE=text/html:Join CWU in celebrating Lunar New Year\, one of the most traditional Chinese festivals\, Thursday\, Jan. 30 from 5 to 9 p.m. in the Student Union and Recreation Center (SURC) Ballroom. Let&#39\;s celebrate together and give best wishes for the New Year. Admission is $5 for CWU students with ID\,$7 for general admission and tickets are available at www.cwu.edu/tickets. This event is open to everyone.&nbsp\; The evening will include traditional Chinese food\, exciting performances\, luck lottery and of course the Lion Dance.&nbsp\; For more information contact the Center for Diversity and Social Justice at 509-963-2127 
LOCATION:Student Union and Recreation Center (SURC) Ballroom
UID:e.40.10933
SEQUENCE:3
DTSTAMP:20260419T191202Z
URL:http://business.kittitascountychamber.com/events/details/cwu-celebrates-lunar-new-year-01-30-2014-10933
END:VEVENT

END:VCALENDAR
