BEGIN:VCALENDAR
VERSION:2.0
PRODID:-//ChamberMaster//Event Calendar 2.0//EN
METHOD:PUBLISH
X-PUBLISHED-TTL:P3D
REFRESH-INTERVAL:P3D
CALSCALE:GREGORIAN
BEGIN:VEVENT
DTSTART:20140115T160000Z
DTEND:20140116T010000Z
X-MICROSOFT-CDO-ALLDAYEVENT:FALSE
SUMMARY:CWU Celebrates MLK Jr.: "Freedom Ride" documentary screening
DESCRIPTION:CWU Celebrates MLK Jr.: "Freedom Ride" documentary screening Jan. 15 SURC Pit ? 8 a.m. - 5 p.m.\, will run continuously all day Free and open to the public The first Freedom Ride took place on May 4\, 1961 when seven blacks and six whites left Washington\, D.C.\, on two public buses bound for the Deep South. They intended to test the Supreme Court's ruling in Boynton v. Virginia (1960)\, which declared segregation in interstate bus and rail stations unconstitutional. Riders were severely beaten and busses were lit on fire. With the intervention of the U.S. Justice Department\, most of CORE's Freedom Riders were evacuated from Birmingham\, Alabama to New Orleans. In 2011 CWU students retraced the route of the Freedom Riders from Washington D.C. to New Orleans and filmed their experiences for this one-of-a-kind documentary. Activities and events have been organized by the Martin Luther King Jr. Committee and sponsored by CWU Africana & Black Studies\, CWU Students for the Dream\, CWU Black Student Union\, CWU E.M.P.I.R.E.\, CWU Center for Leadership and Community Engagement and the CWU Center for Diversity and Social Justice. Contact: Center for Leadership and Community Engagement\, 509-963-1850\, clce@cwu.edu or www.cwu.edu/leadership-engage
X-ALT-DESC;FMTTYPE=text/html:CWU Celebrates MLK Jr.: &quot\;Freedom Ride&quot\; documentary screening Jan. 15 SURC Pit ? 8 a.m. - 5 p.m.\, will run continuously all day Free and open to the public The first Freedom Ride took place on May 4\, 1961 when seven blacks and six whites left Washington\, D.C.\, on two public buses bound for the Deep South. They intended to test the Supreme Court&#39\;s ruling in Boynton v. Virginia (1960)\, which declared segregation in interstate bus and rail stations unconstitutional. Riders were severely beaten and busses were lit on fire. With the intervention of the U.S. Justice Department\, most of CORE&#39\;s Freedom Riders were evacuated from Birmingham\, Alabama to New Orleans. In 2011 CWU students retraced the route of the Freedom Riders from Washington D.C. to New Orleans and filmed their experiences for this one-of-a-kind documentary. Activities and events have been organized by the Martin Luther King Jr. Committee and sponsored by CWU Africana &amp\; Black Studies\, CWU Students for the Dream\, CWU Black Student Union\, CWU E.M.P.I.R.E.\, CWU Center for Leadership and Community Engagement and the CWU Center for Diversity and Social Justice. Contact: Center for Leadership and Community Engagement\, 509-963-1850\, clce@cwu.edu or www.cwu.edu/leadership-engage 
LOCATION:CWU Student Union and Recreation Center (SURC) Pit
UID:e.40.10895
SEQUENCE:3
DTSTAMP:20260419T190942Z
URL:http://business.kittitascountychamber.com/events/details/cwu-celebrates-mlk-jr-freedom-ride-documentary-screening-01-15-2014-10895
END:VEVENT

END:VCALENDAR
