BEGIN:VCALENDAR
VERSION:2.0
PRODID:-//ChamberMaster//Event Calendar 2.0//EN
METHOD:PUBLISH
X-PUBLISHED-TTL:P3D
REFRESH-INTERVAL:P3D
CALSCALE:GREGORIAN
BEGIN:VEVENT
DTSTART:20140115T170000Z
DTEND:20140115T223000Z
X-MICROSOFT-CDO-ALLDAYEVENT:FALSE
SUMMARY:CWU Celebrates MLK Jr.: Hosts Make a Difference Day
DESCRIPTION:Students from Lincoln and Mount Stuart Elementary schools will learn about Martin Luther King Jr. by writing about leadership\, role playing various civil rights situations and making signs that the students will take back to their schools and spread MLK Jr.'s message of peace. Activities and events have been organized by the Martin Luther King Jr. Committee and sponsored by CWU Africana & Black Studies\, CWU Students for the Dream\, CWU Black Student Union\, CWU E.M.P.I.R.E.\, CWU Center for Leadership and Community Engagement and the CWU Center for Diversity and Social Justice.
X-ALT-DESC;FMTTYPE=text/html:Students from Lincoln and Mount Stuart Elementary schools will learn about Martin Luther King Jr. by writing about leadership\, role playing various civil rights situations and making signs that the students will take back to their schools and spread MLK Jr.&#39\;s message of peace. Activities and events have been organized by the Martin Luther King Jr. Committee and sponsored by CWU Africana &amp\; Black Studies\, CWU Students for the Dream\, CWU Black Student Union\, CWU E.M.P.I.R.E.\, CWU Center for Leadership and Community Engagement and the CWU Center for Diversity and Social Justice. 
LOCATION:CWU Student Union and Recreation Center (SURC) Ballroom
UID:e.40.10893
SEQUENCE:3
DTSTAMP:20260419T190222Z
URL:http://business.kittitascountychamber.com/events/details/cwu-celebrates-mlk-jr-hosts-make-a-difference-day-01-15-2014-10893
END:VEVENT

END:VCALENDAR
