BEGIN:VCALENDAR
VERSION:2.0
PRODID:-//ChamberMaster//Event Calendar 2.0//EN
METHOD:PUBLISH
X-PUBLISHED-TTL:P3D
REFRESH-INTERVAL:P3D
CALSCALE:GREGORIAN
BEGIN:VEVENT
DTSTART:20140116T160000Z
DTEND:20140117T010000Z
X-MICROSOFT-CDO-ALLDAYEVENT:FALSE
SUMMARY:CWU Celebrates MLK Jr.: "I Have a Dream" speech screening
DESCRIPTION:CWU Celebrates MLK Jr.: "I Have a Dream" speech screening Jan. 16 SURC Pit ? 8 a.m. - 5 p.m.\, will run continuously all day Free and open to the public There will be a display with facts and information about the life of Martin Luther King Jr. as well as responses from elementary school students when asked what their dreams are from the Make a Difference Day event earlier in the week. Activities and events have been organized by the Martin Luther King Jr. Committee and sponsored by CWU Africana & Black Studies\, CWU Students for the Dream\, CWU Black Student Union\, CWU E.M.P.I.R.E.\, CWU Center for Leadership and Community Engagement and the CWU Center for Diversity and Social Justice.
X-ALT-DESC;FMTTYPE=text/html:CWU Celebrates MLK Jr.: &quot\;I Have a Dream&quot\; speech screening Jan. 16 SURC Pit ? 8 a.m. - 5 p.m.\, will run continuously all day Free and open to the public There will be a display with facts and information about the life of Martin Luther King Jr. as well as responses from elementary school students when asked what their dreams are from the Make a Difference Day event earlier in the week. Activities and events have been organized by the Martin Luther King Jr. Committee and sponsored by CWU Africana &amp\; Black Studies\, CWU Students for the Dream\, CWU Black Student Union\, CWU E.M.P.I.R.E.\, CWU Center for Leadership and Community Engagement and the CWU Center for Diversity and Social Justice. 
LOCATION:CWU Student Union and Recreation Center (SURC) Pit
UID:e.40.10896
SEQUENCE:3
DTSTAMP:20260419T191018Z
URL:http://business.kittitascountychamber.com/events/details/cwu-celebrates-mlk-jr-i-have-a-dream-speech-screening-01-16-2014-10896
END:VEVENT

END:VCALENDAR
