BEGIN:VCALENDAR
VERSION:2.0
PRODID:-//ChamberMaster//Event Calendar 2.0//EN
METHOD:PUBLISH
X-PUBLISHED-TTL:P3D
REFRESH-INTERVAL:P3D
CALSCALE:GREGORIAN
BEGIN:VEVENT
DTSTART;VALUE=DATE:20140425
DTEND;VALUE=DATE:20140428
TRANSP:TRANSPARENT
X-MICROSOFT-CDO-ALLDAYEVENT:TRUE
SUMMARY:CWU College Rodeo
DESCRIPTION:Friday - Sunday\, April 25-27\, 2014 Kittitas county fairgrounds Rodeo arena Competition Friday Slack noon - 3 p.m. Performance 6 - 9 p.m. Saturday Slack 11 a.m. - 2 p.m. Performance 6 - 9 p.m. Sunday Championship Short Go 11 a.m. - 2 p.m. Special Events Stick Horse Race Saturday at 5:30 p.m. Todd Anderson Tribute Saturday evening Calf Scramble Saturday at 7 p.m. Cowboy Church Sunday at 9 a.m. For more information please contact Corey Sinclair at 509-963-3516 or sinclaic@cwu.edu.
X-ALT-DESC;FMTTYPE=text/html:Friday - Sunday\, April 25-27\, 2014 Kittitas county fairgrounds Rodeo arena Competition Friday Slack noon - 3 p.m. Performance 6 - 9 p.m. Saturday Slack 11 a.m. - 2 p.m. Performance 6 - 9 p.m. Sunday Championship Short Go 11 a.m. - 2 p.m. Special Events Stick Horse Race Saturday at 5:30 p.m. Todd Anderson Tribute Saturday evening Calf Scramble Saturday at 7 p.m. Cowboy Church Sunday at 9 a.m. For more information please contact Corey Sinclair at 509-963-3516 or sinclaic@cwu.edu.
LOCATION:Kittitas county fairgrounds rodeo arena
UID:e.40.11362
SEQUENCE:3
DTSTAMP:20260419T144004Z
URL:http://business.kittitascountychamber.com/events/details/cwu-college-rodeo-04-25-2014-11362
END:VEVENT

END:VCALENDAR
