BEGIN:VCALENDAR
VERSION:2.0
PRODID:-//ChamberMaster//Event Calendar 2.0//EN
METHOD:PUBLISH
X-PUBLISHED-TTL:P3D
REFRESH-INTERVAL:P3D
CALSCALE:GREGORIAN
BEGIN:VEVENT
DTSTART:20130426T190000Z
DTEND:20130427T040000Z
X-MICROSOFT-CDO-ALLDAYEVENT:FALSE
SUMMARY:CWU College Rodeo
DESCRIPTION:The CWU Rodeo Club is hosting the National Intercollegiate Rodeo Association (NIRA) Northwest Collegiate Rodeo on Friday\, April 26 at the Ellensburg Rodeo Arena. The competition begins at noon\, admission is free and open to the public. The action begins at noon with the slack competition\, where the field will be set for the performance later in the night. The main performance is at 6 p.m.\, where qualifiers from the slack will compete in events like steer wrestling\, bronc' riding and barrel racing. Rodeo fans are sure to enjoy watching members Central's Rodeo club compete against other NIRA schools including Eastern Oregon University\, Walla Walla Community College and Blue Mountain Community College. For more information contact Corey Sinclair at 509-963-3516 or sinclaic@cwu.edu.
X-ALT-DESC;FMTTYPE=text/html:The CWU Rodeo Club is hosting the National Intercollegiate Rodeo Association (NIRA) Northwest Collegiate Rodeo on Friday\, April 26 at the Ellensburg Rodeo Arena. The competition begins at noon\, admission is free and open to the public. The action begins at noon with the slack competition\, where the field will be set for the performance later in the night. The main performance is at 6 p.m.\, where qualifiers from the slack will compete in events like steer wrestling\, bronc&rsquo\; riding and barrel racing. Rodeo fans are sure to enjoy watching members Central&rsquo\;s Rodeo club compete against other NIRA schools including Eastern Oregon University\, Walla Walla Community College and Blue Mountain Community College. For more information contact Corey Sinclair at 509-963-3516 or sinclaic@cwu.edu.
LOCATION:Ellensburg Rodeo Arena
UID:e.40.9285
SEQUENCE:3
DTSTAMP:20260420T100904Z
URL:http://business.kittitascountychamber.com/events/details/cwu-college-rodeo-04-26-2013-9285
END:VEVENT

END:VCALENDAR
