BEGIN:VCALENDAR
VERSION:2.0
PRODID:-//ChamberMaster//Event Calendar 2.0//EN
METHOD:PUBLISH
X-PUBLISHED-TTL:P3D
REFRESH-INTERVAL:P3D
CALSCALE:GREGORIAN
BEGIN:VEVENT
DTSTART:20130427T180000Z
DTEND:20130428T040000Z
X-MICROSOFT-CDO-ALLDAYEVENT:FALSE
SUMMARY:CWU College Rodeo
DESCRIPTION:College Rodeo weekend continues on April 27 as the CWU Rodeo Club hosts the Todd Anderson 10-year Anniversary Rodeo and silent auction. The competition begins with the slack at 11 a.m. in the Ellensburg Rodeo Arena\, admission is free and open to the public. This event was invented as a way of honoring Todd Anderson\, a Central Rodeo club member who died from a house fire ten years ago. The performance and rough stock is from 6 to 9 p.m. The club is also hosting a silent auction Behind the Chutes in support of the Todd Anderson Scholarship. While this event is an opportunity to contribute to a great cause\, it's also a great chance to see some live rodeo action in Ellensburg before Labor Day weekend. For more information contact Corey Sinclair at 509-963-3516 or sinclaic@cwu.edu.
X-ALT-DESC;FMTTYPE=text/html:College Rodeo weekend continues on April 27 as the CWU Rodeo Club hosts the Todd Anderson 10-year Anniversary Rodeo and silent auction. The competition begins with the slack at 11 a.m. in the Ellensburg Rodeo Arena\, admission is free and open to the public. This event was invented as a way of honoring Todd Anderson\, a Central Rodeo club member who died from a house fire ten years ago. The performance and rough stock is from 6 to 9 p.m. The club is also hosting a silent auction Behind the Chutes in support of the Todd Anderson Scholarship. While this event is an opportunity to contribute to a great cause\, it&rsquo\;s also a great chance to see some live rodeo action in Ellensburg before Labor Day weekend. For more information contact Corey Sinclair at 509-963-3516 or sinclaic@cwu.edu.
LOCATION:Ellensburg Rodeo Arena
UID:e.40.9286
SEQUENCE:3
DTSTAMP:20260420T114007Z
URL:http://business.kittitascountychamber.com/events/details/cwu-college-rodeo-04-27-2013-9286
END:VEVENT

END:VCALENDAR
