BEGIN:VCALENDAR
VERSION:2.0
PRODID:-//ChamberMaster//Event Calendar 2.0//EN
METHOD:PUBLISH
X-PUBLISHED-TTL:P3D
REFRESH-INTERVAL:P3D
CALSCALE:GREGORIAN
BEGIN:VEVENT
DTSTART:20130428T170000Z
DTEND:20130428T210000Z
X-MICROSOFT-CDO-ALLDAYEVENT:FALSE
SUMMARY:CWU College Rodeo
DESCRIPTION:The CWU Rodeo club wraps up their annual College Rodeo on Sunday\, April 28 at 10 a.m. in the Ellensburg Rodeo Arena with the Northwest Collegiate Rodeo Championship Round. Admission is free and open to the public. This is what it all comes down to the top performers of the weekend squaring off in the Championship Round. This event is the last chance for competitors to increase their total score for the event and also the last chance of the weekend for fans to watch some exciting rodeo action. For more information contact Corey Sinclair at 509-963-3516 or sinclaic@cwu.edu.
X-ALT-DESC;FMTTYPE=text/html:The CWU Rodeo club wraps up their annual College Rodeo on Sunday\, April 28 at 10 a.m. in the Ellensburg Rodeo Arena with the Northwest Collegiate Rodeo Championship Round. Admission is free and open to the public. This is what it all comes down to&mdash\;the top performers of the weekend squaring off in the Championship Round. This event is the last chance for competitors to increase their total score for the event and also the last chance of the weekend for fans to watch some exciting rodeo action. For more information contact Corey Sinclair at 509-963-3516 or sinclaic@cwu.edu.
LOCATION:Ellensburg Rodeo Arena
UID:e.40.9287
SEQUENCE:3
DTSTAMP:20260420T100401Z
URL:http://business.kittitascountychamber.com/events/details/cwu-college-rodeo-04-28-2013-9287
END:VEVENT

END:VCALENDAR
