BEGIN:VCALENDAR
VERSION:2.0
PRODID:-//ChamberMaster//Event Calendar 2.0//EN
METHOD:PUBLISH
X-PUBLISHED-TTL:P3D
REFRESH-INTERVAL:P3D
CALSCALE:GREGORIAN
BEGIN:VEVENT
DTSTART:20140222T030000Z
DTEND:20140222T043000Z
X-MICROSOFT-CDO-ALLDAYEVENT:FALSE
SUMMARY:CWU Faculty Brass Quintet
DESCRIPTION:Join us for a concert of the Central Washington University Brass Quintet at THE LODGE AT SUNCADIA. Featuring Hornist Jeffrey Snedeker\, Trombonist John Neurohr\, Tubaist Curtis Peacock and Trumpeters John Harbaugh and Todd Shriver. This event is free and open to the public and funded by the Suncadia Fund for Community Enhancement.
X-ALT-DESC;FMTTYPE=text/html:Join us for a concert of the Central Washington University Brass Quintet at THE LODGE AT SUNCADIA. Featuring Hornist Jeffrey Snedeker\, Trombonist John Neurohr\, Tubaist Curtis Peacock and Trumpeters John Harbaugh and Todd Shriver. This event is free and open to the public and funded by the Suncadia Fund for Community Enhancement.
LOCATION:The Lodge at Suncadia 3600 Suncadia Trail\, Rialto Room
UID:e.40.11147
SEQUENCE:3
DTSTAMP:20260419T174921Z
URL:http://business.kittitascountychamber.com/events/details/cwu-faculty-brass-quintet-02-21-2014-11147
END:VEVENT

END:VCALENDAR
