BEGIN:VCALENDAR
VERSION:2.0
PRODID:-//ChamberMaster//Event Calendar 2.0//EN
METHOD:PUBLISH
X-PUBLISHED-TTL:P3D
REFRESH-INTERVAL:P3D
CALSCALE:GREGORIAN
BEGIN:VEVENT
DTSTART:20131024T170000Z
DTEND:20131024T210000Z
X-MICROSOFT-CDO-ALLDAYEVENT:FALSE
SUMMARY:CWU Fall Job\, Internship & Grad School Fair
DESCRIPTION:CWU Fall Job\, Internship & Grad School Fair Thursday\, Oct. 24 10 a.m. to 2 p.m. Professional photo booth: noon - 1 p.m. Dress to impress and come and take a photo for your social media pages! SURC Ballroom Free Central Washington University's all-major career event presented by Career Services is for upcoming graduates and students seeking job\, internship and graduate school opportunities. Companies and agencies will recruit for all academic disciplines. Over 60 companies registered so far! View them here: https://wcn.experience.com/stu/cf_registered_employers?fhnd=6347 Questions? Contact Kristina Paquette at 509.963.2404 or paquette@cwu.edu.
X-ALT-DESC;FMTTYPE=text/html:CWU Fall Job\, Internship &amp\; Grad School Fair Thursday\, Oct. 24 10 a.m. to 2 p.m. Professional photo booth: noon - 1 p.m. Dress to impress and come and take a photo for your social media pages! SURC Ballroom Free Central Washington University&#39\;s all-major career event presented by Career Services is for upcoming graduates and students seeking job\, internship and graduate school opportunities. Companies and agencies will recruit for all academic disciplines. Over 60 companies registered so far! View them here: https://wcn.experience.com/stu/cf_registered_employers?fhnd=6347 Questions? Contact Kristina Paquette at 509.963.2404 or paquette@cwu.edu.
LOCATION:CWU Student Union and Recreation Center (SURC) Ballroom
UID:e.40.10783
SEQUENCE:3
DTSTAMP:20260420T003238Z
URL:http://business.kittitascountychamber.com/events/details/cwu-fall-job-internship-grad-school-fair-10-24-2013-10783
END:VEVENT

END:VCALENDAR
