BEGIN:VCALENDAR
VERSION:2.0
PRODID:-//ChamberMaster//Event Calendar 2.0//EN
METHOD:PUBLISH
X-PUBLISHED-TTL:P3D
REFRESH-INTERVAL:P3D
CALSCALE:GREGORIAN
BEGIN:VEVENT
DTSTART;VALUE=DATE:20130510
DTEND;VALUE=DATE:20130513
TRANSP:TRANSPARENT
X-MICROSOFT-CDO-ALLDAYEVENT:TRUE
SUMMARY:CWU Family Weekend
DESCRIPTION:CWU Family Weekend Friday\, May 10 to Sunday\, May 12 All Day Everyone is invited to CWU Family Weekend Friday\, May 10 through Sunday\, May 12 with a jam-packed weekend full of activities to enjoy. For a full list of events\, registration info and tickets\, please visit www.cwu.edu/campus-life. This year will be especially exciting as one of the weekend's highlights is stand-up comedian and voice impressionist Melissa Villasenor. Villasenor has performed at colleges around the nation and had success on television\, as she was most recently a top 16 finalist on NBC's popular show "America's Got Talent." Don't forget the Mother's Day Brunch\, Sunday morning in the Holmes Dining Room. The brunch will feature both a delicious selection of eats and special musical entertainment by the acoustic sensation Nelly's Echo\, who was featured on season 3 of NBC's hit television show "The Voice." Every day of CWU Family Weekend is packed with activities of all kinds including various musical performances\, Outdoor Zumba and the always popular Chimposium\, just to name a few. For more information\, including a full list of events\, please visit www.cwu.edu/campus-life.
X-ALT-DESC;FMTTYPE=text/html:CWU Family Weekend Friday\, May 10 to Sunday\, May 12 All Day Everyone is invited to CWU Family Weekend Friday\, May 10 through Sunday\, May 12 with a jam-packed weekend full of activities to enjoy. For a full list of events\, registration info and tickets\, please visit www.cwu.edu/campus-life. This year will be especially exciting as one of the weekend&#39\;s highlights is stand-up comedian and voice impressionist Melissa Villasenor. Villasenor has performed at colleges around the nation and had success on television\, as she was most recently a top 16 finalist on NBC&#39\;s popular show &quot\;America&#39\;s Got Talent.&quot\; Don&#39\;t forget the Mother&#39\;s Day Brunch\, Sunday morning in the Holmes Dining Room. The brunch will feature both a delicious selection of eats and special musical entertainment by the acoustic sensation Nelly&#39\;s Echo\, who was featured on season 3 of NBC&#39\;s hit television show &quot\;The Voice.&quot\; Every day of CWU Family Weekend is packed with activities of all kinds including various musical performances\, Outdoor Zumba and the always popular Chimposium\, just to name a few. For more information\, including a full list of events\, please visit www.cwu.edu/campus-life. 
LOCATION:Central Washington University Ellensburg\, WA
UID:e.40.10164
SEQUENCE:3
DTSTAMP:20260420T083314Z
URL:http://business.kittitascountychamber.com/events/details/cwu-family-weekend-05-10-2013-10164
END:VEVENT

END:VCALENDAR
