BEGIN:VCALENDAR
VERSION:2.0
PRODID:-//ChamberMaster//Event Calendar 2.0//EN
METHOD:PUBLISH
X-PUBLISHED-TTL:P3D
REFRESH-INTERVAL:P3D
CALSCALE:GREGORIAN
BEGIN:VEVENT
DTSTART:20131007T190000Z
DTEND:20131013T065500Z
X-MICROSOFT-CDO-ALLDAYEVENT:FALSE
SUMMARY:CWU Homecoming Week
DESCRIPTION:Oct. 7 Homecoming Parade  Noon-1 p.m. Start at Barge courtyard\, goes through SURC and ends at Nicholson Pavilion. Spirit Decorating Contest Judges will be making the rounds to determine best-decorated doors and entries. Show off your Wildcat Pride! Jerry Harris\, Hypnotist 8 p.m. ? SURC Theatre ? Free for CWU students $5 general admission Oct. 8 Mr. & Ms. Central  7:30 p.m. ? SURC Ballroom - Free Oct. 9 Steak Night 4:30 ? 7 p.m. ? Holmes Dining Room Wellington?s Wildfire 7-9 p.m. ? Alder Street Recreation Complex ? Free BBQ\, music\, bonfire\, Alpine Tower and crate-stacking competition. Oct. 10 Wildcat Video Booth 11 a.m. - 1 p.m.  SURC 137B CWU Women?s Soccer vs. Seattle Pacific 4 p.m. ? CWU Soccer Field CWU Volleyball vs. Seattle Pacific  7 p.m. ? Nicholson Pavilion Oct. 11 Comedian Wayne Brady 9 p.m. ? SURC Ballroom $42 reserved\, $32 general\, $20 CWU student (with id) www.cwu.edu/tickets Oct. 12 CWU Fall Open House 8 a.m. ? noon SURC Wildcat Color 5K 9:30 a.m. registration begins 10:30 a.m. race starts OPR Patio $15 (before Oct. 4 t-shirt guaranteed)  Register at Rec. Center front desk CWU Women?s Soccer vs. Simon Fraser 11 a.m. ? CWU Soccer Field Wildcat Street Fair and ore-game festivities with 88.1 The ?Burg 11 a.m. ? 1 p.m.  Outside the stadium on Walnut St. Rally to Tomlinson 11:50 a.m. ? SURC East Patio CWU Homecoming Football vs. Dixie State 1 p.m.  ? Tomlinson Stadium CWU Volleyball vs. Montana State Billings 7 p.m. ? Nicholas Pavilion Homecoming Dance 9 p.m. ? SURC Ballroom ? $5 if purchased online or $10 at the door www.cwu.edu/tickets
X-ALT-DESC;FMTTYPE=text/html:Oct. 7 Homecoming Parade&nbsp\; Noon-1 p.m. Start at Barge courtyard\, goes through SURC and ends at Nicholson Pavilion. Spirit Decorating Contest Judges will be making the rounds to determine best-decorated doors and entries. Show off your Wildcat Pride! Jerry Harris\, Hypnotist 8 p.m. ? SURC Theatre ? Free for CWU students $5 general admission Oct. 8 Mr. &amp\; Ms. Central&nbsp\; 7:30 p.m. ? SURC Ballroom - Free Oct. 9 Steak Night 4:30 ? 7 p.m. ? Holmes Dining Room Wellington?s Wildfire 7-9 p.m. ? Alder Street Recreation Complex ? Free BBQ\, music\, bonfire\, Alpine Tower and crate-stacking competition. Oct. 10 Wildcat Video Booth 11 a.m. - 1 p.m.&nbsp\; SURC 137B CWU Women?s Soccer vs. Seattle Pacific 4 p.m. ? CWU Soccer Field CWU Volleyball vs. Seattle Pacific&nbsp\; 7 p.m. ? Nicholson Pavilion Oct. 11 Comedian Wayne Brady 9 p.m. ? SURC Ballroom $42 reserved\, $32 general\, $20 CWU student (with id) www.cwu.edu/tickets Oct. 12 CWU Fall Open House 8 a.m. ? noon SURC Wildcat Color 5K 9:30 a.m. registration begins 10:30 a.m. race starts OPR Patio $15 (before Oct. 4 t-shirt guaranteed)&nbsp\; Register at Rec. Center front desk CWU Women?s Soccer vs. Simon Fraser 11 a.m. ? CWU Soccer Field Wildcat Street Fair and ore-game festivities with 88.1 The ?Burg 11 a.m. ? 1 p.m.&nbsp\; Outside the stadium on Walnut St. Rally to Tomlinson 11:50 a.m. ? SURC East Patio CWU Homecoming Football vs. Dixie State 1 p.m. &nbsp\;? Tomlinson Stadium CWU Volleyball vs. Montana State Billings 7 p.m. ? Nicholas Pavilion Homecoming Dance 9 p.m. ? SURC Ballroom ? $5 if purchased online or $10 at the door www.cwu.edu/tickets&nbsp\; 
LOCATION:CWU/ELLENSBURG
UID:e.40.10720
SEQUENCE:3
DTSTAMP:20260420T003125Z
URL:http://business.kittitascountychamber.com/events/details/cwu-homecoming-week-10-07-2013-10720
END:VEVENT

END:VCALENDAR
