BEGIN:VCALENDAR
VERSION:2.0
PRODID:-//ChamberMaster//Event Calendar 2.0//EN
METHOD:PUBLISH
X-PUBLISHED-TTL:P3D
REFRESH-INTERVAL:P3D
CALSCALE:GREGORIAN
BEGIN:VEVENT
DTSTART:20140212T180000Z
DTEND:20140212T230000Z
X-MICROSOFT-CDO-ALLDAYEVENT:FALSE
SUMMARY:CWU hosts Blood Drive
DESCRIPTION:Feb. 12 10 a.m. to 3 p.m. SURC 137 A&B Free Looking for an easy way to do a good deed? Be a blood donor! Come donate at the Blood Drive Feb. 12 from 10 a.m. to 3 p.m. in the CWU Student Union and Recreation Center (SURC) rooms 137 A&B. This event is free\, and anyone interested in donating is free to walk in\, as no appointments are required. Donating blood is a great way to benefit others\, as one donation can save up to three lives. This event is sponsored by the Center for Leadership and Community Engagement (CLCE)\, the Reserve Officer Training Corps (ROTC) and the American Red Cross. For more information contact CLCE at 509-963-1850 or clce@cwu.edu.
X-ALT-DESC;FMTTYPE=text/html:Feb. 12 10 a.m. to 3 p.m. SURC 137 A&amp\;B Free Looking for an easy way to do a good deed? Be a blood donor! Come donate at the Blood Drive Feb. 12 from 10 a.m. to 3 p.m. in the CWU Student Union and Recreation Center (SURC) rooms 137 A&amp\;B. This event is free\, and anyone interested in donating is free to walk in\, as no appointments are required. Donating blood is a great way to benefit others\, as one donation can save up to three lives. This event is sponsored by the Center for Leadership and Community Engagement (CLCE)\, the Reserve Officer Training Corps (ROTC) and the American Red Cross. For more information contact CLCE at 509-963-1850 or clce@cwu.edu. 
LOCATION:CWU Student Union and Recreation Center (SURC) 137 A&B
UID:e.40.10978
SEQUENCE:3
DTSTAMP:20260419T175100Z
URL:http://business.kittitascountychamber.com/events/details/cwu-hosts-blood-drive-02-12-2014-10978
END:VEVENT

END:VCALENDAR
