BEGIN:VCALENDAR
VERSION:2.0
PRODID:-//ChamberMaster//Event Calendar 2.0//EN
METHOD:PUBLISH
X-PUBLISHED-TTL:P3D
REFRESH-INTERVAL:P3D
CALSCALE:GREGORIAN
BEGIN:VEVENT
DTSTART:20140128T200000Z
DTEND:20140128T230000Z
X-MICROSOFT-CDO-ALLDAYEVENT:FALSE
SUMMARY:CWU hosts Majors Fair
DESCRIPTION:For anyone wondering what CWU major would be right for them\, considering switching majors or thinking of taking on a minor\, Career Services presents the perfect opportunity. Come check out the Majors Fair\, Tuesday\, Jan. 28 from noon to 3 p.m. in the Student Union and Recreation Center (SURC) Hallway. Faculty and advisors will be on hand to meet with students and help point them in the right direction. This event is free\, and all current and prospective Central students are encouraged to attend. For more information please contact Career Services at 509-963-2404 or career@cwu.edu.
X-ALT-DESC;FMTTYPE=text/html:For anyone wondering what CWU major would be right for them\, considering switching majors or thinking of taking on a minor\, Career Services presents the perfect opportunity. Come check out the Majors Fair\, Tuesday\, Jan. 28 from noon to 3 p.m. in the Student Union and Recreation Center (SURC) Hallway. Faculty and advisors will be on hand to meet with students and help point them in the right direction. This event is free\, and all current and prospective Central students are encouraged to attend. For more information please contact Career Services at 509-963-2404 or career@cwu.edu. 
LOCATION:CWU Student Union and Recreation Center (SURC) Hallway
UID:e.40.10923
SEQUENCE:3
DTSTAMP:20260419T190631Z
URL:http://business.kittitascountychamber.com/events/details/cwu-hosts-majors-fair-01-28-2014-10923
END:VEVENT

END:VCALENDAR
