BEGIN:VCALENDAR
VERSION:2.0
PRODID:-//ChamberMaster//Event Calendar 2.0//EN
METHOD:PUBLISH
X-PUBLISHED-TTL:P3D
REFRESH-INTERVAL:P3D
CALSCALE:GREGORIAN
BEGIN:VEVENT
DTSTART:20130414T200000Z
DTEND:20130414T220000Z
X-MICROSOFT-CDO-ALLDAYEVENT:FALSE
SUMMARY:CWU Men's Lacrosse vs. Whitman
DESCRIPTION:CWU Men's Lacrosse Club vs. Whitman
X-ALT-DESC;FMTTYPE=text/html:CWU Men&#39\;s Lacrosse Club vs. Whitman
LOCATION:CWU Nicholson Multipurpose Fields
UID:e.40.10111
SEQUENCE:3
DTSTAMP:20260420T100359Z
URL:http://business.kittitascountychamber.com/events/details/cwu-men-s-lacrosse-vs-whitman-04-14-2013-10111
END:VEVENT

END:VCALENDAR
