BEGIN:VCALENDAR
VERSION:2.0
PRODID:-//ChamberMaster//Event Calendar 2.0//EN
METHOD:PUBLISH
X-PUBLISHED-TTL:P3D
REFRESH-INTERVAL:P3D
CALSCALE:GREGORIAN
BEGIN:VEVENT
DTSTART:20130323T200000Z
DTEND:20130323T220000Z
X-MICROSOFT-CDO-ALLDAYEVENT:FALSE
SUMMARY:CWU Men's Rugby vs. Colorado
DESCRIPTION:CWU Men's Rugby Club vs. Colorado. The match begins at 1 p.m. at the Varsity Soccer Field. Admission is free and open to the public.
X-ALT-DESC;FMTTYPE=text/html:CWU Men&#39\;s Rugby Club vs. Colorado. The match begins at 1 p.m. at the Varsity Soccer Field. Admission is free and open to the public.
LOCATION:CWU Varsity Soccer Field
UID:e.40.9223
SEQUENCE:3
DTSTAMP:20260420T114124Z
URL:http://business.kittitascountychamber.com/events/details/cwu-men-s-rugby-vs-colorado-03-23-2013-9223
END:VEVENT

END:VCALENDAR
