BEGIN:VCALENDAR
VERSION:2.0
PRODID:-//ChamberMaster//Event Calendar 2.0//EN
METHOD:PUBLISH
X-PUBLISHED-TTL:P3D
REFRESH-INTERVAL:P3D
CALSCALE:GREGORIAN
BEGIN:VEVENT
DTSTART:20130406T200000Z
DTEND:20130406T220000Z
X-MICROSOFT-CDO-ALLDAYEVENT:FALSE
SUMMARY:CWU Men's Rugby vs St. Mary's
DESCRIPTION:CWU Men's Rugby Club vs. St. Mary's (California). The match begins at 1 p.m. at the Varsity Soccer Field. Admission is free and open to the public.
X-ALT-DESC;FMTTYPE=text/html:CWU Men&#39\;s Rugby Club vs. St. Mary&#39\;s (California). The match begins at 1 p.m. at the Varsity Soccer Field. Admission is free and open to the public.
LOCATION:CWU Varsity Soccer Field
UID:e.40.9224
SEQUENCE:3
DTSTAMP:20260420T102046Z
URL:http://business.kittitascountychamber.com/events/details/cwu-men-s-rugby-vs-st-mary-s-04-06-2013-9224
END:VEVENT

END:VCALENDAR
