BEGIN:VCALENDAR
VERSION:2.0
PRODID:-//ChamberMaster//Event Calendar 2.0//EN
METHOD:PUBLISH
X-PUBLISHED-TTL:P3D
REFRESH-INTERVAL:P3D
CALSCALE:GREGORIAN
BEGIN:VEVENT
DTSTART:20130407T200000Z
DTEND:20130407T220000Z
X-MICROSOFT-CDO-ALLDAYEVENT:FALSE
SUMMARY:CWU Men's Soccer vs. Idaho
DESCRIPTION:CWU Men's Soccer Club vs. Idaho
X-ALT-DESC;FMTTYPE=text/html:CWU Men&#39\;s Soccer Club vs. Idaho
LOCATION:CWU Varsity Soccer Complex
UID:e.40.10109
SEQUENCE:3
DTSTAMP:20260420T102232Z
URL:http://business.kittitascountychamber.com/events/details/cwu-men-s-soccer-vs-idaho-04-07-2013-10109
END:VEVENT

END:VCALENDAR
