BEGIN:VCALENDAR
VERSION:2.0
PRODID:-//ChamberMaster//Event Calendar 2.0//EN
METHOD:PUBLISH
X-PUBLISHED-TTL:P3D
REFRESH-INTERVAL:P3D
CALSCALE:GREGORIAN
BEGIN:VEVENT
DTSTART:20130406T220000Z
DTEND:20130407T000000Z
X-MICROSOFT-CDO-ALLDAYEVENT:FALSE
SUMMARY:CWU Men's Soccer vs. WSU
DESCRIPTION:CWU Men's Soccer Club vs. WSU
X-ALT-DESC;FMTTYPE=text/html:CWU Men&#39\;s Soccer Club vs. WSU
LOCATION:CWU Varsity Soccer Complex
UID:e.40.10108
SEQUENCE:3
DTSTAMP:20260420T101046Z
URL:http://business.kittitascountychamber.com/events/details/cwu-men-s-soccer-vs-wsu-04-06-2013-10108
END:VEVENT

END:VCALENDAR
