BEGIN:VCALENDAR
VERSION:2.0
PRODID:-//ChamberMaster//Event Calendar 2.0//EN
METHOD:PUBLISH
X-PUBLISHED-TTL:P3D
REFRESH-INTERVAL:P3D
CALSCALE:GREGORIAN
BEGIN:VEVENT
DTSTART:20131203T030000Z
DTEND:20131203T050000Z
X-MICROSOFT-CDO-ALLDAYEVENT:FALSE
SUMMARY:CWU Monday Movie Madness: Elysium
DESCRIPTION:Monday Movie Madness: Elysium Monday\, Dec 2\, 2013 7:00 pm 7 & 9:30 p.m.     SURC Theatre Price: Free for CWU students with ID\, $3 general admission Monday Movie Madness is sponsored by Campus Activities. Persons of disability may make arrangements for reasonable accommodation by calling 509-963-1691 or by e-mailing CDSrecept@cwu.edu.
X-ALT-DESC;FMTTYPE=text/html:Monday Movie Madness: Elysium Monday\, Dec 2\, 2013 7:00 pm 7 &amp\; 9:30 p.m. &nbsp\; &nbsp\; SURC Theatre Price: Free for CWU students with ID\, $3 general admission Monday Movie Madness is sponsored by Campus Activities. Persons of disability may make arrangements for reasonable accommodation by calling 509-963-1691 or by e-mailing CDSrecept@cwu.edu. 
LOCATION:CWU Student Union and Recreation Center (SURC) Theatre
UID:e.40.10710
SEQUENCE:3
DTSTAMP:20260419T211008Z
URL:http://business.kittitascountychamber.com/events/details/cwu-monday-movie-madness-elysium-12-02-2013-10710
END:VEVENT

END:VCALENDAR
