BEGIN:VCALENDAR
VERSION:2.0
PRODID:-//ChamberMaster//Event Calendar 2.0//EN
METHOD:PUBLISH
X-PUBLISHED-TTL:P3D
REFRESH-INTERVAL:P3D
CALSCALE:GREGORIAN
BEGIN:VEVENT
DTSTART:20140516T023000Z
DTEND:20140516T050000Z
X-MICROSOFT-CDO-ALLDAYEVENT:FALSE
SUMMARY:CWU presents Les Misérables
DESCRIPTION:The second longest-running musical in the world\, Les Mis rables\, is coming to Central Washington University in a top-notch\, quality production featuring multi-talented CWU students\, faculty\, staff and community members. The Central Theatre Ensemble has enlisted the company of the CWU Music Department\, who will be adding to the production with an elaborate full orchestra to create the most thrilling and intense three hours all in song. An electrifying production that transmits heart-wrenching emotion\, torturous struggle and even a special feature from a potbelly pig\, Les Mis promises to be a show enjoyed by all audiences.  For more information\, visit www.cwu.edu/theatre.
X-ALT-DESC;FMTTYPE=text/html:The second longest-running musical in the world\, Les Mis&eacute\;rables\, is coming to Central Washington University in a top-notch\, quality production featuring multi-talented CWU students\, faculty\, staff and community members. The Central Theatre Ensemble has enlisted the company of the CWU Music Department\, who will be adding to the production with an elaborate full orchestra to create the most thrilling and intense three hours all in song. An electrifying production that transmits heart-wrenching emotion\, torturous struggle and even a special feature from a potbelly pig\, Les Mis promises to be a show enjoyed by all audiences.&nbsp\; For more information\, visit www.cwu.edu/theatre.
LOCATION:McConnell Auditorium
UID:e.40.11255
SEQUENCE:3
DTSTAMP:20260419T130333Z
URL:http://business.kittitascountychamber.com/events/details/cwu-presents-les-mis&#233;rables-05-15-2014-11255
END:VEVENT

END:VCALENDAR
