BEGIN:VCALENDAR
VERSION:2.0
PRODID:-//ChamberMaster//Event Calendar 2.0//EN
METHOD:PUBLISH
X-PUBLISHED-TTL:P3D
REFRESH-INTERVAL:P3D
CALSCALE:GREGORIAN
BEGIN:VEVENT
DTSTART:20131115T033000Z
DTEND:20131115T050000Z
X-MICROSOFT-CDO-ALLDAYEVENT:FALSE
SUMMARY:CWU Presents: Open Mic Night
DESCRIPTION:Can you sing? Play an instrument? Do you think you have what it takes to be a comedian? Show off your talents at Open Mic Night Thursday\, Nov. 14 at 7:30 p.m. in the Student Union and Recreation Center (SURC) Pit. Admission is free and open to the public. From musicians to poets to comedians\, the talent showcased at Open Mic Night is endless. Whether you want to put your talents on display or just want to come support\, the entertainment will not disappoint.   Those interested in performing can sign up at the SURC Pit prior to the show. For more information call 509-963-1450.
X-ALT-DESC;FMTTYPE=text/html:Can you sing? Play an instrument? Do you think you have what it takes to be a comedian? Show off your talents at Open Mic Night Thursday\, Nov. 14 at 7:30 p.m. in the Student Union and Recreation Center (SURC) Pit. Admission is free and open to the public. From musicians to poets to comedians\, the talent showcased at Open Mic Night is endless. Whether you want to put your talents on display or just want to come support\, the entertainment will not disappoint. &nbsp\; Those interested in performing can sign up at the SURC Pit prior to the show. For more information call 509-963-1450. 
LOCATION:Student Union and Recreation Center Pit
UID:e.40.10794
SEQUENCE:3
DTSTAMP:20260419T224937Z
URL:http://business.kittitascountychamber.com/events/details/cwu-presents-open-mic-night-11-14-2013-10794
END:VEVENT

END:VCALENDAR
