BEGIN:VCALENDAR
VERSION:2.0
PRODID:-//ChamberMaster//Event Calendar 2.0//EN
METHOD:PUBLISH
X-PUBLISHED-TTL:P3D
REFRESH-INTERVAL:P3D
CALSCALE:GREGORIAN
BEGIN:VEVENT
DTSTART:20130528T190000Z
DTEND:20130601T010000Z
X-MICROSOFT-CDO-ALLDAYEVENT:FALSE
SUMMARY:CWU Pride Week
DESCRIPTION:CWU Equality Through Queers and Allies (EQuAl) is partnering with the Center for Diversity and Social Justice (CDSJ) to host numerous events to celebrate CWU Pride Week from May 28 to 31. Events will be occurring all week across the Central campus and Ellensburg community\, all of which are free and open to the public. Pride Week is a celebration of sexual diversity and gender variance and is all about taking a positive stance against discrimination toward the gay community. EQuAl and CDSJ hope to erase homophobia completely by uniting the hetero and homosexual communities with various fun events. To learn more about Pride Week and to view a list of events\, visit www.cwu.edu/diversity/pride-week-2013.
X-ALT-DESC;FMTTYPE=text/html:CWU Equality Through Queers and Allies (EQuAl) is partnering with the Center for Diversity and Social Justice (CDSJ) to host numerous events to celebrate CWU Pride Week from May 28 to 31. Events will be occurring all week across the Central campus and Ellensburg community\, all of which are free and open to the public. Pride Week is a celebration of sexual diversity and gender variance and is all about taking a positive stance against discrimination toward the gay community. EQuAl and CDSJ hope to erase homophobia completely by uniting the hetero and homosexual communities with various fun events. To learn more about Pride Week and to view a list of events\, visit www.cwu.edu/diversity/pride-week-2013. 
LOCATION:
UID:e.40.10324
SEQUENCE:3
DTSTAMP:20260420T082941Z
URL:http://business.kittitascountychamber.com/events/details/cwu-pride-week-05-28-2013-10324
END:VEVENT

END:VCALENDAR
