BEGIN:VCALENDAR
VERSION:2.0
PRODID:-//ChamberMaster//Event Calendar 2.0//EN
METHOD:PUBLISH
X-PUBLISHED-TTL:P3D
REFRESH-INTERVAL:P3D
CALSCALE:GREGORIAN
BEGIN:VEVENT
DTSTART:20140201T000000Z
DTEND:20140201T020000Z
X-MICROSOFT-CDO-ALLDAYEVENT:FALSE
SUMMARY:CWU Retirement Association
DESCRIPTION:The CWU Retirement Association presents "Journeys in Asia"\, a travelogue by retired professor Moose Mack. Presentation begins at 4:00 p.m. with social hour to follow.
X-ALT-DESC;FMTTYPE=text/html:The CWU Retirement Association presents &quot\;Journeys in Asia&quot\;\, a travelogue by retired professor Moose Mack. Presentation begins at 4:00 p.m. with social hour to follow.
LOCATION:Lombard Room\, Central Washington University
UID:e.40.10932
SEQUENCE:3
DTSTAMP:20260419T190823Z
URL:http://business.kittitascountychamber.com/events/details/cwu-retirement-association-01-31-2014-10932
END:VEVENT

END:VCALENDAR
