BEGIN:VCALENDAR
VERSION:2.0
PRODID:-//ChamberMaster//Event Calendar 2.0//EN
METHOD:PUBLISH
X-PUBLISHED-TTL:P3D
REFRESH-INTERVAL:P3D
CALSCALE:GREGORIAN
BEGIN:VEVENT
DTSTART;VALUE=DATE:20131008
DTEND;VALUE=DATE:20131009
TRANSP:TRANSPARENT
X-MICROSOFT-CDO-ALLDAYEVENT:TRUE
SUMMARY:CWU Spirit Splash 2013
DESCRIPTION:The CWU Spirit Splash Committee for 2013 homecoming is back...This is a fun school spirit competition between university department. residence halls\, and Ellensburg businesses.  Each participant will decorate their lobby\, store front\, or doo/ entrance with CWU school spirit in accordance with the Homecoming 2013 theme "Crimson and Black Attack".  All submitted entries will be judges and winners for each category will be announced during the Homecoming football game on Saturday\, October 12.
X-ALT-DESC;FMTTYPE=text/html:The CWU Spirit Splash Committee for 2013 homecoming is back...This is a fun school spirit competition between university department. residence halls\, and Ellensburg businesses.&nbsp\; Each participant will decorate their lobby\, store front\, or doo/ entrance with CWU school spirit in accordance with the Homecoming 2013 theme &quot\;Crimson and Black Attack&quot\;.&nbsp\; All submitted entries will be judges and winners for each category will be announced during the Homecoming football game on Saturday\, October 12.
LOCATION:CWU Departments\, Ellensburg Businesses and Campus Residence Halls
UID:e.40.10729
SEQUENCE:3
DTSTAMP:20260420T003115Z
URL:http://business.kittitascountychamber.com/events/details/cwu-spirit-splash-2013-10-08-2013-10729
END:VEVENT

END:VCALENDAR
