BEGIN:VCALENDAR
VERSION:2.0
PRODID:-//ChamberMaster//Event Calendar 2.0//EN
METHOD:PUBLISH
X-PUBLISHED-TTL:P3D
REFRESH-INTERVAL:P3D
CALSCALE:GREGORIAN
BEGIN:VEVENT
DTSTART:20140414T160000Z
DTEND:20140414T180000Z
X-MICROSOFT-CDO-ALLDAYEVENT:FALSE
SUMMARY:CWU Student Union Hosts Open House
DESCRIPTION:Whether planning a meeting\, conference or private event\, the CWU Student Union building has a variety of spaces available to rent and is perfect for any program. To showcase all the building has to offer\, Student Union Operations and CWU Catering will host an open house Monday\, April 14 from 9 to 11 a.m. highlighting the Theatre\, room 137 A&B and the Ballroom\, which are always popular rentals and have been recently upgraded. This event is free\, and everyone is welcome to attend. Attendees can check out the new lighting equipment\, screens and all the areas of the Student Union building available for rental. CWU Catering will provide free refreshments and present the possible dishes attendees could have at their future events. Student Union Operations staff will be on hand to answer questions and help make any vision for an event into a reality. This is the perfect opportunity for attendees to guarantee the success of their next events. For more information please contact Student Union Operations at 509-963-1321 or schedule@cwu.edu.
X-ALT-DESC;FMTTYPE=text/html:Whether planning a meeting\, conference or private event\, the CWU Student Union building has a variety of spaces available to rent and is perfect for any program. To showcase all the building has to offer\, Student Union Operations and CWU Catering will host an open house Monday\, April 14 from 9 to 11 a.m. highlighting the Theatre\, room 137 A&amp\;B and the Ballroom\, which are always popular rentals and have been recently upgraded. This event is free\, and everyone is welcome to attend. Attendees can check out the new lighting equipment\, screens and all the areas of the Student Union building available for rental. CWU Catering will provide free refreshments and present the possible dishes attendees could have at their future events. Student Union Operations staff will be on hand to answer questions and help make any vision for an event into a reality. This is the perfect opportunity for attendees to guarantee the success of their next events. For more information please contact Student Union Operations at 509-963-1321 or schedule@cwu.edu.
LOCATION:CWU Student Union Building
UID:e.40.11290
SEQUENCE:3
DTSTAMP:20260419T143726Z
URL:http://business.kittitascountychamber.com/events/details/cwu-student-union-hosts-open-house-04-14-2014-11290
END:VEVENT

END:VCALENDAR
