BEGIN:VCALENDAR
VERSION:2.0
PRODID:-//ChamberMaster//Event Calendar 2.0//EN
METHOD:PUBLISH
X-PUBLISHED-TTL:P3D
REFRESH-INTERVAL:P3D
CALSCALE:GREGORIAN
BEGIN:VEVENT
DTSTART:20140422T230000Z
DTEND:20140423T000000Z
X-MICROSOFT-CDO-ALLDAYEVENT:FALSE
SUMMARY:CWU Welcomes Captain Charles Moore: Awareness for Our Plastic Infested Oceans
DESCRIPTION:To honor Earth Day and to raise awareness for environmentalism\, the CWU Environmental Club will host Captain Charles Moore\, founder of the Algalita Marine Research Institute and discoverer of the Great Pacific Garbage Patch\, for two speeches Tuesday\, April 22 at noon and 4 p.m. in the CWU Student Union and Recreation Center (SURC) Theatre. Attendance to both speeches is free\, and everyone is welcome to attend and hear Captain Moore?s story while learning about plastic pollution. Both of Captain Moore?s speeches at CWU will shed light on the negative impacts of plastic in the environment. His first speech at noon is titled\, ?Plastic Pollution of the Marine Environment: A Rapidly Increasing\, Long-Term Threat? and his second at 4 p.m. is titled ?What is Plastic?s Meaning ? For the Ocean and Us?? For more information please contact William Ligon-Bruno at 509-963-2380 or ligonbrunw@cwu.edu.
X-ALT-DESC;FMTTYPE=text/html:To honor Earth Day and to raise awareness for environmentalism\, the CWU Environmental Club will host Captain Charles Moore\, founder of the Algalita Marine Research Institute and discoverer of the Great Pacific Garbage Patch\, for two speeches Tuesday\, April 22 at noon and 4 p.m. in the CWU Student Union and Recreation Center (SURC) Theatre. Attendance to both speeches is free\, and everyone is welcome to attend and hear Captain Moore?s story while learning about plastic pollution. Both of Captain Moore?s speeches at CWU will shed light on the negative impacts of plastic in the environment. His first speech at noon is titled\, ?Plastic Pollution of the Marine Environment: A Rapidly Increasing\, Long-Term Threat? and his second at 4 p.m. is titled ?What is Plastic?s Meaning ? For the Ocean and Us?? For more information please contact William Ligon-Bruno at 509-963-2380 or ligonbrunw@cwu.edu.
LOCATION:SURC Theatre
UID:e.40.11355
SEQUENCE:3
DTSTAMP:20260419T143922Z
URL:http://business.kittitascountychamber.com/events/details/cwu-welcomes-captain-charles-moore-awareness-for-our-plastic-infested-oceans-04-22-2014-11355
END:VEVENT

END:VCALENDAR
