BEGIN:VCALENDAR
VERSION:2.0
PRODID:-//ChamberMaster//Event Calendar 2.0//EN
METHOD:PUBLISH
X-PUBLISHED-TTL:P3D
REFRESH-INTERVAL:P3D
CALSCALE:GREGORIAN
BEGIN:VEVENT
DTSTART;VALUE=DATE:20130115
DTEND;VALUE=DATE:20130116
TRANSP:TRANSPARENT
X-MICROSOFT-CDO-ALLDAYEVENT:TRUE
SUMMARY:CWU Winter Wedding and Event Expo Final Registration Deadline
DESCRIPTION:If you haven't registered for a booth yet\, today's your last chance! Hurry now and sign up to host a table at the 5th annual Winter Wedding and Event Expo Jan. 27\, 2013 in the SURC Ballroom. Today is the last day for registration. Prices are $100 for an 8x8 standard booth and $135 for a 16x8 booth. Registration fee includes a table\, two chairs and parking. Arrangements can be made for vendors needing larger space\, power and accommodations for food and wine services\; however\, these services may be subject to availability\, regulations and/or additional fees. Applications are available at www.cwu.edu/student-union or by contacting Dannica Price at 963-1322 or price@cwu.edu.
X-ALT-DESC;FMTTYPE=text/html:If you haven&rsquo\;t registered for a booth yet\, today&rsquo\;s your last chance! Hurry now and sign up to host a table at the 5th annual Winter Wedding and Event Expo Jan. 27\, 2013 in the SURC Ballroom. Today is the last day for registration. Prices are $100 for an 8x8 standard booth and $135 for a 16x8 booth. Registration fee includes a table\, two chairs and parking. Arrangements can be made for vendors needing larger space\, power and accommodations for food and wine services\; however\, these services may be subject to availability\, regulations and/or additional fees. Applications are available at www.cwu.edu/student-union or by contacting Dannica Price at 963-1322 or price@cwu.edu.
LOCATION:CWU
UID:e.40.8857
SEQUENCE:3
DTSTAMP:20260420T164109Z
URL:http://business.kittitascountychamber.com/events/details/cwu-winter-wedding-and-event-expo-final-registration-deadline-01-15-2013-8857
END:VEVENT

END:VCALENDAR
