BEGIN:VCALENDAR
VERSION:2.0
PRODID:-//ChamberMaster//Event Calendar 2.0//EN
METHOD:PUBLISH
X-PUBLISHED-TTL:P3D
REFRESH-INTERVAL:P3D
CALSCALE:GREGORIAN
BEGIN:VEVENT
DTSTART:20131017T170000Z
DTEND:20131017T190000Z
X-MICROSOFT-CDO-ALLDAYEVENT:FALSE
SUMMARY:Cyber Security Awareness
DESCRIPTION:You are invited to an in-depth presentation and discussion\n\n	on what businesses and individuals can do to reduce common risk factors and\n\n	Relevant security tips that you can start using today!
X-ALT-DESC;FMTTYPE=text/html:You are invited to an in-depth presentation and discussion\n<p>\n	on what businesses and individuals can do to reduce common risk factors and<br />\n	Relevant security tips that you can start using today!</p>\n
LOCATION:CWUCybersecurity Staff & Public 10-am-12pm Surc Theater Students 1:30-3:00pm Hertz Auditorium
UID:e.40.10724
SEQUENCE:3
DTSTAMP:20260420T002856Z
URL:http://business.kittitascountychamber.com/events/details/cyber-security-awareness-10-17-2013-10724
END:VEVENT

END:VCALENDAR
