BEGIN:VCALENDAR
VERSION:2.0
PRODID:-//ChamberMaster//Event Calendar 2.0//EN
METHOD:PUBLISH
X-PUBLISHED-TTL:P3D
REFRESH-INTERVAL:P3D
CALSCALE:GREGORIAN
BEGIN:VEVENT
DTSTART;VALUE=DATE:20130615
DTEND;VALUE=DATE:20130616
TRANSP:TRANSPARENT
X-MICROSOFT-CDO-ALLDAYEVENT:TRUE
SUMMARY:Dachshunds on Parade
DESCRIPTION:Join us for the Annual Dachshunds on Parade. Lets make this year the biggest ever! It won't be easy with over 300 dogs. Downtown Ellensburg will again be the center of Dachshund paradise as Dachshund lovers converge for the Parade and other festivities. Come down early with your dogs for the Breakfast with the Dog\; a pancake breakfast sponsored by the Rodeo City Kiwanis. Returning again this year will be the Dachshund Racing\, Stupid Pet Tricks\, Costume Contest and of course the Short Parade through Downtown Ellensburg. We look forward to seeing you and your two legged owners there this year! 8am - 10am Breakfast with the Dogs 9am - 11am Registration 10am - 2pm ''The Ugliest Dachshund'' 11am Parade\, Costume Contest\, and Poker Run 12pm Dachshund Races and Stupid Pet Tricks
X-ALT-DESC;FMTTYPE=text/html:<div>Join us for the Annual Dachshunds on Parade. Lets make this year the biggest ever! It won&rsquo\;t be easy with over 300 dogs. Downtown Ellensburg will again be the center of Dachshund paradise as Dachshund lovers converge for the Parade and other festivities. Come down early with your dogs for the Breakfast with the Dog\; a pancake breakfast sponsored by the Rodeo City Kiwanis. Returning again this year will be the Dachshund Racing\, Stupid Pet Tricks\, Costume Contest and of course the Short Parade through Downtown Ellensburg. We look forward to seeing you and your two legged owners there this year! 8am - 10am Breakfast with the Dogs 9am - 11am Registration 10am - 2pm &rsquo\;&rsquo\;The Ugliest Dachshund&rsquo\;&rsquo\; 11am Parade\, Costume Contest\, and Poker Run 12pm Dachshund Races and Stupid Pet Tricks</div>\n
LOCATION:Downtown Ellensburg on 4th Ave and Main Street
UID:e.40.5619
SEQUENCE:3
DTSTAMP:20260420T064734Z
URL:http://business.kittitascountychamber.com/events/details/dachshunds-on-parade-06-15-2013-5619
END:VEVENT

END:VCALENDAR
