BEGIN:VCALENDAR
VERSION:2.0
PRODID:-//ChamberMaster//Event Calendar 2.0//EN
METHOD:PUBLISH
X-PUBLISHED-TTL:P3D
REFRESH-INTERVAL:P3D
CALSCALE:GREGORIAN
BEGIN:VEVENT
DTSTART:20121118T023000Z
DTEND:20121118T070000Z
X-MICROSOFT-CDO-ALLDAYEVENT:FALSE
SUMMARY:Dennis Clauss Big Band Swing Dance
DESCRIPTION:The CWU Swing Cats will be hosting the Dennis Clauss Big band on November 17th. There will be an beginner lesson at 6:30 for those who do not know how to dance and then dancing from 7-11pm. The cost is $10
X-ALT-DESC;FMTTYPE=text/html:The CWU Swing Cats will be hosting the Dennis Clauss Big band on November 17th. There will be an beginner lesson at 6:30 for those who do not know how to dance and then dancing from 7-11pm. The cost is $10
LOCATION:CWU SURC Ballroom 1007 N Chestnut St. Ellensburg\, WA
UID:e.40.8441
SEQUENCE:3
DTSTAMP:20260420T201854Z
URL:http://business.kittitascountychamber.com/events/details/dennis-clauss-big-band-swing-dance-11-17-2012-8441
END:VEVENT

END:VCALENDAR
