BEGIN:VCALENDAR
VERSION:2.0
PRODID:-//ChamberMaster//Event Calendar 2.0//EN
METHOD:PUBLISH
X-PUBLISHED-TTL:P3D
REFRESH-INTERVAL:P3D
CALSCALE:GREGORIAN
BEGIN:VEVENT
DTSTART:20130904T230000Z
DTEND:20130905T003000Z
X-MICROSOFT-CDO-ALLDAYEVENT:FALSE
SUMMARY:Diabetes Education and Support Group
DESCRIPTION:Take a Positive Path | Reaching healthy goals is easier if you have a positive image to guide you. We'll look at some healthy changes you can make and set goals to help you succeed. | Come at 4 p.m. for Q&A with the presenters. The program starts at 4:30 in the Cafe conference room at KVH Hospital. New members and families are always welcome. | Presenters: Mary Jo Morrissey MS RD CDE Judy Heesacker MS RD CD
X-ALT-DESC;FMTTYPE=text/html:Take a Positive Path | Reaching healthy goals is easier if you have a positive image to guide you. We&#39\;ll look at some healthy changes you can make and set goals to help you succeed. | Come at 4 p.m. for Q&amp\;A with the presenters. The program starts at 4:30 in the Cafe conference room at KVH Hospital. New members and families are always welcome. | Presenters: Mary Jo Morrissey MS RD CDE Judy Heesacker MS RD CD
LOCATION:KVH Hospital\, Caf conference room
UID:e.40.10434
SEQUENCE:3
DTSTAMP:20260420T015834Z
URL:http://business.kittitascountychamber.com/events/details/diabetes-education-and-support-group-09-04-2013-10434
END:VEVENT

END:VCALENDAR
