BEGIN:VCALENDAR
VERSION:2.0
PRODID:-//ChamberMaster//Event Calendar 2.0//EN
METHOD:PUBLISH
X-PUBLISHED-TTL:P3D
REFRESH-INTERVAL:P3D
CALSCALE:GREGORIAN
BEGIN:VEVENT
DTSTART:20140416T010000Z
DTEND:20140416T030000Z
X-MICROSOFT-CDO-ALLDAYEVENT:FALSE
SUMMARY:?Django Unchained? Film Screening
DESCRIPTION:Tuesday\, April 15 at 6 p.m. Black Hall 151 Free & open to the public Set in the South two years before the Civil War\, ?Django Unchained? stars Academy Award winner Jamie Foxx as Django\, a slave whose brutal history with his former owners lands him face-to-face with German-born bounty hunter Dr. King Schultz (Christoph Waltz). Schultz is on the trail of the murderous Brittle brothers\, and only Django can lead him to his bounty. There will be a live panel discussion Wednesday\, April 16 from at 6:30 p.m. in Black Hall 151 covering the films controversial inclusion of racial politics. For more information contact the Center for Diversity and Social Justice at 509-963-2127 or diversity@cwu.edu.
X-ALT-DESC;FMTTYPE=text/html:Tuesday\, April 15 at 6 p.m. Black Hall 151 Free &amp\; open to the public Set in the South two years before the Civil War\, ?Django Unchained? stars Academy Award winner Jamie Foxx as Django\, a slave whose brutal history with his former owners lands him face-to-face with German-born bounty hunter Dr. King Schultz (Christoph Waltz). Schultz is on the trail of the murderous Brittle brothers\, and only Django can lead him to his bounty. There will be a live panel discussion Wednesday\, April 16 from at 6:30 p.m. in Black Hall 151 covering the films controversial inclusion of racial politics. For more information contact the Center for Diversity and Social Justice at 509-963-2127 or diversity@cwu.edu.
LOCATION:CWU Black Hall 151
UID:e.40.11336
SEQUENCE:3
DTSTAMP:20260419T144004Z
URL:http://business.kittitascountychamber.com/events/details/django-unchained-film-screening-04-15-2014-11336
END:VEVENT

END:VCALENDAR
