BEGIN:VCALENDAR
VERSION:2.0
PRODID:-//ChamberMaster//Event Calendar 2.0//EN
METHOD:PUBLISH
X-PUBLISHED-TTL:P3D
REFRESH-INTERVAL:P3D
CALSCALE:GREGORIAN
BEGIN:VEVENT
DTSTART:20140417T013000Z
DTEND:20140417T023000Z
X-MICROSOFT-CDO-ALLDAYEVENT:FALSE
SUMMARY:?Django Unchained? Panel Discussion
DESCRIPTION:Wednesday\, April 16 6:30 p.m. ? 7:30 p.m. Michaelson 126 Free Pizza & Drinks Free & open to the public Set two years before the Civil war\, ?Django Unchained? follows the story of a slave turned bounty hunter as he sets out to rescue his wife from a cruel plantation owner. Join a live panel of CWU staff and faculty as they discuss the film and its controversial inclusion of racial politics. For more information contact the Center for Diversity and Social Justice at 509-963-2127 or diversity@cwu.edu.
X-ALT-DESC;FMTTYPE=text/html:Wednesday\, April 16 6:30 p.m. ? 7:30 p.m. Michaelson 126 Free Pizza &amp\; Drinks Free &amp\; open to the public Set two years before the Civil war\, ?Django Unchained? follows the story of a slave turned bounty hunter as he sets out to rescue his wife from a cruel plantation owner. Join a live panel of CWU staff and faculty as they discuss the film and its controversial inclusion of racial politics. For more information contact the Center for Diversity and Social Justice at 509-963-2127 or diversity@cwu.edu.
LOCATION:CWU Michaelson 126
UID:e.40.11337
SEQUENCE:3
DTSTAMP:20260419T143446Z
URL:http://business.kittitascountychamber.com/events/details/django-unchained-panel-discussion-04-16-2014-11337
END:VEVENT

END:VCALENDAR
