BEGIN:VCALENDAR
VERSION:2.0
PRODID:-//ChamberMaster//Event Calendar 2.0//EN
METHOD:PUBLISH
X-PUBLISHED-TTL:P3D
REFRESH-INTERVAL:P3D
CALSCALE:GREGORIAN
BEGIN:VEVENT
DTSTART:20131122T023000Z
DTEND:20131122T043000Z
X-MICROSOFT-CDO-ALLDAYEVENT:FALSE
SUMMARY:Documentary screening ?SERVICE: When Women Come Marching Home?
DESCRIPTION:The CWU Center for Diversity and Student Justice presents a free screening of the documentary SERVICE: When Women Come Marching Home Thursday\, Nov. 21 at 6:30 p.m. in Dean Hall.  Service depicts the journey of several women who have fought the frontless wars of Iraq and Afghanistan. Having faced horrific trauma\, the women are now forced to transition from active duty to civilian life.  The women return home dealing with devastating life changes including prosthetics\, homelessness\, Post Traumatic Stress Disorder and Military Sexual Trauma. Told through the voices of the women featured\, this documentary shows the challenges female veterans face returning from duty and depicts just how courageous these veterans are.  For more information contact CDSJ at 509-963-2127.
X-ALT-DESC;FMTTYPE=text/html:The CWU Center for Diversity and Student Justice presents a free screening of the documentary SERVICE: When Women Come Marching Home Thursday\, Nov. 21 at 6:30 p.m. in Dean Hall.&nbsp\; Service depicts the journey of several women who have fought the frontless wars of Iraq and Afghanistan. Having faced horrific trauma\, the women are now forced to transition from active duty to civilian life. &nbsp\;The women return home dealing with devastating life changes including prosthetics\, homelessness\, Post Traumatic Stress Disorder and Military Sexual Trauma. Told through the voices of the women featured\, this documentary shows the challenges female veterans face returning from duty and depicts just how courageous these veterans are.&nbsp\; For more information contact CDSJ at 509-963-2127. 
LOCATION:CWU Dean Hall
UID:e.40.10840
SEQUENCE:3
DTSTAMP:20260419T225013Z
URL:http://business.kittitascountychamber.com/events/details/documentary-screening-service-when-women-come-marching-home-11-21-2013-10840
END:VEVENT

END:VCALENDAR
