BEGIN:VCALENDAR
VERSION:2.0
PRODID:-//ChamberMaster//Event Calendar 2.0//EN
METHOD:PUBLISH
X-PUBLISHED-TTL:P3D
REFRESH-INTERVAL:P3D
CALSCALE:GREGORIAN
BEGIN:VEVENT
DTSTART:20130330T010000Z
DTEND:20130330T020000Z
X-MICROSOFT-CDO-ALLDAYEVENT:FALSE
SUMMARY:Dog Easter Biscuit Hunt
DESCRIPTION:Dog Easter Biscuit Hunt this is for all ages.  Friday March 29th at Lions- Mtn View Park.
X-ALT-DESC;FMTTYPE=text/html:Dog Easter Biscuit Hunt this is for all ages.&nbsp\; Friday March 29th at Lions- Mtn View Park. 
LOCATION:Mtn View Park.
UID:e.40.10100
SEQUENCE:3
DTSTAMP:20260420T113655Z
URL:http://business.kittitascountychamber.com/events/details/dog-easter-biscuit-hunt-03-29-2013-10100
END:VEVENT

END:VCALENDAR
