BEGIN:VCALENDAR
VERSION:2.0
PRODID:-//ChamberMaster//Event Calendar 2.0//EN
METHOD:PUBLISH
X-PUBLISHED-TTL:P3D
REFRESH-INTERVAL:P3D
CALSCALE:GREGORIAN
BEGIN:VEVENT
DTSTART:20130817T160000Z
DTEND:20130817T200000Z
X-MICROSOFT-CDO-ALLDAYEVENT:FALSE
SUMMARY:Downtown Wide Sidewalk Sale
DESCRIPTION:Join us after the Rodeo Kickoff Breakfast for a downtown wide sidewalk sale including over 15 stores.  Participating stores include:  Bailey's Biblomania Brick Road Books\, Clymer Museum\, Ellensburg Floral and Gifts\, Ellensburg WineWorks\, Flirt\, The Foundry Vintage Shop\, Gallery One\, Gifts of the Vine\, Lotus Clothing & Jewelry Design\, Maurices\, Mountain High Sports\, Old Skool's Pearl Street Books\, Pine Street Mall\, Pink with Envy\, Relics (Those Callahan Girls) Shoes 2 boot\, Terrace Fashions\, Tucker's Treasures & More
X-ALT-DESC;FMTTYPE=text/html:Join us after the Rodeo Kickoff Breakfast for a downtown wide sidewalk sale including over 15 stores.&nbsp\; Participating stores include:&nbsp\; Bailey&#39\;s Biblomania Brick Road Books\, Clymer Museum\, Ellensburg Floral and Gifts\, Ellensburg WineWorks\, Flirt\, The Foundry Vintage Shop\, Gallery One\, Gifts of the Vine\, Lotus Clothing &amp\; Jewelry Design\, Maurices\, Mountain High Sports\, Old Skool&#39\;s Pearl Street Books\, Pine Street Mall\, Pink with Envy\, Relics (Those Callahan Girls) Shoes 2 boot\, Terrace Fashions\, Tucker&#39\;s Treasures &amp\; More
LOCATION:Downtown Ellensburg
UID:e.40.10431
SEQUENCE:3
DTSTAMP:20260420T033145Z
URL:http://business.kittitascountychamber.com/events/details/downtown-wide-sidewalk-sale-08-17-2013-10431
END:VEVENT

END:VCALENDAR
