BEGIN:VCALENDAR
VERSION:2.0
PRODID:-//ChamberMaster//Event Calendar 2.0//EN
METHOD:PUBLISH
X-PUBLISHED-TTL:P3D
REFRESH-INTERVAL:P3D
CALSCALE:GREGORIAN
BEGIN:VEVENT
DTSTART:20130516T023000Z
DTEND:20130516T043000Z
X-MICROSOFT-CDO-ALLDAYEVENT:FALSE
SUMMARY:Dr. Edith Eger\, A Survivor's Story
DESCRIPTION:Holocaust survivor speaks at CWU Holocaust survivor Dr. Edith Eger will present ?A Survivor?s Story? Wednesday\, May 15 at 7:30 p.m. in the CWU Jerilyn S. McIntyre Music Building Concert Hall. This event is free and open to the public. In May of 1944\, at the age of 16\, Eger was a classically trained ballerina and aspiring gymnast. Her dreams were crushed however when she and her family were taken from their home in Kassa\, Hungary and sent to Auschwitz\, the notorious Nazi death camp. She and her sister Magda were immediately separated from their parents\, who were executed upon arrival to the camp. Until her liberation on May 4\, 1945\, Eger survived through indescribable horrors\, including suffering the loss of loved ones and severe malnutrition. She weighed only 60 pounds and had a broken back when an American soldier rescued her from a pile of corpses. During her recovery Eger battled depression and post-traumatic stress. Instead of allowing herself to be pitied\, she channeled her understanding of pain into achieving a degree in Psychology from the University of Texas\, El Paso. Today\, Eger uses the trauma of her past experiences in her work to help others cope with their life struggles\, including battered women and soldiers suffering from post traumatic stress disorder. Eger is a sought-after clinical psychologist and lecturer\, a prolific author and member of several professional associations. She has a clinical practice in La Jolla\, Calif. and holds a faculty appointment at the University of California\, San Diego. For more information about Eger visit www.dreee.com. Questions about the event please call the CWU Center for Diversity and Social Justice at 509-963-2198.
X-ALT-DESC;FMTTYPE=text/html:Holocaust survivor speaks at CWU Holocaust survivor Dr. Edith Eger will present ?A Survivor?s Story? Wednesday\, May 15 at 7:30 p.m. in the CWU Jerilyn S. McIntyre Music Building Concert Hall. This event is free and open to the public. In May of 1944\, at the age of 16\, Eger was a classically trained ballerina and aspiring gymnast. Her dreams were crushed however when she and her family were taken from their home in Kassa\, Hungary and sent to Auschwitz\, the notorious Nazi death camp. She and her sister Magda were immediately separated from their parents\, who were executed upon arrival to the camp. Until her liberation on May 4\, 1945\, Eger survived through indescribable horrors\, including suffering the loss of loved ones and severe malnutrition. She weighed only 60 pounds and had a broken back when an American soldier rescued her from a pile of corpses. During her recovery Eger battled depression and post-traumatic stress. Instead of allowing herself to be pitied\, she channeled her understanding of pain into achieving a degree in Psychology from the University of Texas\, El Paso. Today\, Eger uses the trauma of her past experiences in her work to help others cope with their life struggles\, including battered women and soldiers suffering from post traumatic stress disorder. Eger is a sought-after clinical psychologist and lecturer\, a prolific author and member of several professional associations. She has a clinical practice in La Jolla\, Calif. and holds a faculty appointment at the University of California\, San Diego. For more information about Eger visit www.dreee.com. Questions about the event please call the CWU Center for Diversity and Social Justice at 509-963-2198. 
LOCATION:CWU Jerilyn S. McIntyre Music Building Concert Hall
UID:e.40.10271
SEQUENCE:3
DTSTAMP:20260420T084645Z
URL:http://business.kittitascountychamber.com/events/details/dr-edith-eger-a-survivor-s-story-05-15-2013-10271
END:VEVENT

END:VCALENDAR
