BEGIN:VCALENDAR
VERSION:2.0
PRODID:-//ChamberMaster//Event Calendar 2.0//EN
METHOD:PUBLISH
X-PUBLISHED-TTL:P3D
REFRESH-INTERVAL:P3D
CALSCALE:GREGORIAN
BEGIN:VEVENT
DTSTART:20130914T140000Z
DTEND:20130916T000000Z
X-MICROSOFT-CDO-ALLDAYEVENT:FALSE
SUMMARY:Early Iron Club Threshing Bee
DESCRIPTION:Come and join the early Iron Club for the annual Threshing Bee. \n\n	There is breakfast hosted by Rodeo City Kiwanis $5.00 per person......sausage\, pancakes\, eggs\, coffee\, juice & milk.\n\n	Lunch offered by 4-H Council\n\n	There are crafts and demonstrations scheduled and will be available for all to see.  There is a $1.00 donation for entry\n\n	For further information please call Curtis Bull at 509-962-2222
X-ALT-DESC;FMTTYPE=text/html:<div>\n	Come and join the early Iron Club for the annual Threshing Bee.&nbsp\;</div>\n<div>\n	There is breakfast hosted by Rodeo City Kiwanis $5.00 per person......sausage\, pancakes\, eggs\, coffee\, juice &amp\; milk.</div>\n<div>\n	Lunch offered by 4-H Council</div>\n<div>\n	There are crafts and demonstrations scheduled and will be available for all to see.&nbsp\; There is a $1.00 donation for entry</div>\n<div>\n	For further information please call Curtis Bull at 509-962-2222</div>\n
LOCATION:Olmstead Place State Park 921 N. Ferguson Rd. Ellensburg WA
UID:e.40.5655
SEQUENCE:3
DTSTAMP:20260420T020521Z
URL:http://business.kittitascountychamber.com/events/details/early-iron-club-threshing-bee-09-14-2013-5655
END:VEVENT

END:VCALENDAR
