BEGIN:VCALENDAR
VERSION:2.0
PRODID:-//ChamberMaster//Event Calendar 2.0//EN
METHOD:PUBLISH
X-PUBLISHED-TTL:P3D
REFRESH-INTERVAL:P3D
CALSCALE:GREGORIAN
BEGIN:VEVENT
DTSTART:20140419T180000Z
DTEND:20140419T210000Z
X-MICROSOFT-CDO-ALLDAYEVENT:FALSE
SUMMARY:Easter in the Canyon
DESCRIPTION:Free event for all ages! Face painting\, Easter Bunny Photos\, Cookie Decorating\, Fly Tying Lessons\, Easter Egg Hunt\, and even more! \n\n\n\nhttps://www.facebook.com/events/1498624403698577/
X-ALT-DESC;FMTTYPE=text/html:Free event for all ages! Face painting\, Easter Bunny Photos\, Cookie Decorating\, Fly Tying Lessons\, Easter Egg Hunt\, and even more!&nbsp\;<br />\n<br />\nhttps://www.facebook.com/events/1498624403698577/<br />\n&nbsp\;
LOCATION:Reds Fly Shop/ Canyon River Ranch
UID:e.40.11307
SEQUENCE:3
DTSTAMP:20260419T144003Z
URL:http://business.kittitascountychamber.com/events/details/easter-in-the-canyon-04-19-2014-11307
END:VEVENT

END:VCALENDAR
