BEGIN:VCALENDAR
VERSION:2.0
PRODID:-//ChamberMaster//Event Calendar 2.0//EN
METHOD:PUBLISH
X-PUBLISHED-TTL:P3D
REFRESH-INTERVAL:P3D
CALSCALE:GREGORIAN
BEGIN:VEVENT
DTSTART:20130328T003000Z
DTEND:20130328T020000Z
X-MICROSOFT-CDO-ALLDAYEVENT:FALSE
SUMMARY:EDA Open House
DESCRIPTION:Join us for an evening of updates from the Ellensburg Downtown Association and information on how to direct your tax dollars directly into downtown Ellensburg.\n\n\n\nDirector Carolyn Honeycutt will provide updates on the EDA's recent activities and future plans including Hometown Holidays\, Buskers in the Burg\, Wind Art\, Street Furniture\, Downtown Investments\, a new Golf Scramble\, and Volunteer Involvement.\n\n\n\nDale Meador of Ideal CPA's & Advisors will join us to present on the Main Street Tax Credit Program. The Main Street Tax Credit places your B&O tax funds straight into the downtown. Seventy five percent of eligible contributions are returned to you as a credit on future B&O taxes. The 3-step process is quick and easy.\n\n\n\nWednesday\, March 27 | Presentations start at 6 p.m. | Drinks & Apps served at 5:30 p.m. | Gard Vintners | 311 N Pearl St
X-ALT-DESC;FMTTYPE=text/html:Join us for an evening of updates from the Ellensburg Downtown Association and information on how to direct your tax dollars directly into downtown Ellensburg.<br />\n<br />\nDirector Carolyn Honeycutt will provide updates on the EDA&#39\;s recent activities and future plans including Hometown Holidays\, Buskers in the Burg\, Wind Art\, Street Furniture\, Downtown Investments\, a new Golf Scramble\, and Volunteer Involvement.<br />\n<br />\nDale Meador of Ideal CPA&#39\;s &amp\; Advisors will join us to present on the Main Street Tax Credit Program. The Main Street Tax Credit places your B&amp\;O tax funds straight into the downtown. Seventy five percent of eligible contributions are returned to you as a credit on future B&amp\;O taxes. The 3-step process is quick and easy.<br />\n<br />\nWednesday\, March 27 | Presentations start at 6 p.m. | Drinks &amp\; Apps served at 5:30 p.m. | Gard Vintners | 311 N Pearl St
LOCATION:Gard Vintners\, 311 N Pearl St
UID:e.40.10102
SEQUENCE:3
DTSTAMP:20260420T113655Z
URL:http://business.kittitascountychamber.com/events/details/eda-open-house-03-27-2013-10102
END:VEVENT

END:VCALENDAR
