BEGIN:VCALENDAR
VERSION:2.0
PRODID:-//ChamberMaster//Event Calendar 2.0//EN
METHOD:PUBLISH
X-PUBLISHED-TTL:P3D
REFRESH-INTERVAL:P3D
CALSCALE:GREGORIAN
BEGIN:VEVENT
DTSTART:20121202T010000Z
DTEND:20121202T060000Z
X-MICROSOFT-CDO-ALLDAYEVENT:FALSE
SUMMARY:EDA Winter Gala
DESCRIPTION:As in years past\, the Ellensburg Downtown Association and Kelleher Motor Company will host an evening full of fun\, food\, and holiday spirit. Previously part of the Festival of Trees\, the Holiday Gala used to feature an auction of elaborately decorated trees and wreaths. This year\, we are mixing things up\, discarding formality (and the trees)\, and kicking our feet up for an evening of comedy\, featuring the CWU improv group\, Sharks with Legs. The show will require audience participation\, so come prepared. If audience participation isn't up your alley\, bring your checkbook\, we'll let you buy your way out of anything! Holidays at the Improv is serving as a fundraiser for both the Ellensburg Downtown Association and Sharks with Legs. We will be raising funds in a series of unexpected ways\; for example\, you may nominate someone in the audience for a particular game\, but be careful\, they may just outbid you and send it back your way. We will start the evening with a no-host cocktail hour\, followed by a catered dinner\, and a show that promises to keep you on the edge of your seat. The evening is sponsored by Kelleher Motor Company. Buy your tickets early\; you won't want to miss this!
X-ALT-DESC;FMTTYPE=text/html:As in years past\, the Ellensburg Downtown Association and Kelleher Motor Company will host an evening full of fun\, food\, and holiday spirit. Previously part of the Festival of Trees\, the Holiday Gala used to feature an auction of elaborately decorated trees and wreaths. This year\, we are mixing things up\, discarding formality (and the trees)\, and kicking our feet up for an evening of comedy\, featuring the CWU improv group\, Sharks with Legs. The show will require audience participation\, so come prepared. If audience participation isn&rsquo\;t up your alley\, bring your checkbook\, we&rsquo\;ll let you buy your way out of anything! Holidays at the Improv is serving as a fundraiser for both the Ellensburg Downtown Association and Sharks with Legs. We will be raising funds in a series of unexpected ways\; for example\, you may nominate someone in the audience for a particular game\, but be careful\, they may just outbid you and send it back your way. We will start the evening with a no-host cocktail hour\, followed by a catered dinner\, and a show that promises to keep you on the edge of your seat. The evening is sponsored by Kelleher Motor Company. Buy your tickets early\; you won&rsquo\;t want to miss this!
LOCATION:Kelleher Motor Company
UID:e.40.8450
SEQUENCE:3
DTSTAMP:20260420T182430Z
URL:http://business.kittitascountychamber.com/events/details/eda-winter-gala-12-01-2012-8450
END:VEVENT

END:VCALENDAR
