BEGIN:VCALENDAR
VERSION:2.0
PRODID:-//ChamberMaster//Event Calendar 2.0//EN
METHOD:PUBLISH
X-PUBLISHED-TTL:P3D
REFRESH-INTERVAL:P3D
CALSCALE:GREGORIAN
BEGIN:VEVENT
DTSTART;VALUE=DATE:20130802
DTEND;VALUE=DATE:20130805
TRANSP:TRANSPARENT
X-MICROSOFT-CDO-ALLDAYEVENT:TRUE
SUMMARY:EHS Class of 1983 Reunion
DESCRIPTION:The Ellensburg High School Class of 1983 will be holding its 30th class reunion August 2 (Friday) - August 4 (Sunday).\n\nFriday night social gathering\; Saturday fun kid friendly activities\, Saturday night dinner and entertainment.\n\nSunday lunch and farewell......
X-ALT-DESC;FMTTYPE=text/html:The Ellensburg High School Class of 1983 will be holding its 30th class reunion August 2 (Friday) - August 4 (Sunday).<br />\nFriday night social gathering\; Saturday fun kid friendly activities\, Saturday night dinner and entertainment.<br />\nSunday lunch and farewell......&nbsp\;&nbsp\;&nbsp\;&nbsp\;&nbsp\;&nbsp\;&nbsp\;&nbsp\;
LOCATION:TBA........keep an eye open for updates
UID:e.40.9283
SEQUENCE:3
DTSTAMP:20260420T033017Z
URL:http://business.kittitascountychamber.com/events/details/ehs-class-of-1983-reunion-08-02-2013-9283
END:VEVENT

END:VCALENDAR
