BEGIN:VCALENDAR
VERSION:2.0
PRODID:-//ChamberMaster//Event Calendar 2.0//EN
METHOD:PUBLISH
X-PUBLISHED-TTL:P3D
REFRESH-INTERVAL:P3D
CALSCALE:GREGORIAN
BEGIN:VEVENT
DTSTART:20140725T180000Z
DTEND:20140726T000000Z
X-MICROSOFT-CDO-ALLDAYEVENT:FALSE
SUMMARY:Elephant Mountain Vineyards & Treveri Cellars
DESCRIPTION:Join us on one of our many trips through wine and hop country this summer.  Enjoy the natural beauty of central Washington and learn about the industries that make our area unique.  Enrollment is limited so reserve your seat TODAY by visiting cwu.deu/ce/bus-tours-day-trips \n\nCost per seat is $85.00
X-ALT-DESC;FMTTYPE=text/html:Join us on one of our many trips through wine and hop country this summer. &nbsp\;Enjoy the natural beauty of central Washington and learn about the industries that make our area unique. &nbsp\;Enrollment is limited so reserve your seat TODAY by visiting <strong>cwu.deu/ce/bus-tours-day-trips</strong>&nbsp\;<br />\nCost per seat is $85.00
LOCATION:Elephant Mountain vineyard in the Rattlesnake Hills AVA is your first stop on this trip. You will enjoy lunch up on the ridge under the gazebo\, taking in the 360-degree views of the valley. Next\, we will travel to Treveri Cellars for a behind the scenes facility tour and round out the day enjoying their handcrafted sparkling wines.
UID:e.40.11666
SEQUENCE:3
DTSTAMP:20260421T083912Z
URL:http://business.kittitascountychamber.com/events/details/elephant-mountain-vineyards-treveri-cellars-07-25-2014-11666
END:VEVENT

END:VCALENDAR
