BEGIN:VCALENDAR
VERSION:2.0
PRODID:-//ChamberMaster//Event Calendar 2.0//EN
METHOD:PUBLISH
X-PUBLISHED-TTL:P3D
REFRESH-INTERVAL:P3D
CALSCALE:GREGORIAN
BEGIN:VEVENT
DTSTART:20131023T210000Z
DTEND:20131024T000000Z
X-MICROSOFT-CDO-ALLDAYEVENT:FALSE
SUMMARY:Ellensburg Lodging Tax Application Workshop
DESCRIPTION:Lodging tax provides critical support for events that bring visitors to Kittitas County\, and this fall a new unified application process is being introduced. The Chamber's Tourism Director Amy McGuffin will be providing free public workshops on how to successfully submit applications \n\n\n\nThis meeting will be held at the Council Chambers at the City Hall in Cle Elum
X-ALT-DESC;FMTTYPE=text/html:Lodging tax provides critical support for events that bring visitors to Kittitas County\, and this fall a new unified application process is being introduced. The Chamber&#39\;s Tourism Director Amy McGuffin will be providing free public workshops on how to successfully submit applications&nbsp\;<br />\n<br />\nThis meeting will be held at the Council Chambers at the City Hall in Cle Elum
LOCATION:Cle Elum City Hall
UID:e.40.10808
SEQUENCE:3
DTSTAMP:20260420T003320Z
URL:http://business.kittitascountychamber.com/events/details/ellensburg-lodging-tax-application-workshop-10-23-2013-10808
END:VEVENT

END:VCALENDAR
